Workbook

Sheet Summary P&L
A1: Qamar Bay: business review, October 2031
A2: Month 1 of Fiscal Year 2031/32 (first month under Roya Hotel Management). Actual vs approved budget vs last year (October 2030, under Halcyon). AED.
A3: Synthetic: for training only. Deep Hospitality.
A5: Line | B5: Actual Oct 2031 | C5: Budget Oct 2031 | D5: Last year Oct 2030 (Halcyon) | E5: Var vs budget (AED) | F5: Var vs budget % | G5: Var vs last year %
A6: REVENUE
A7: Rooms | B7: =Statistics!B9*Statistics!B10 -> 3950640 | C7: =Statistics!C9*Statistics!C10 -> 4129200 | D7: =Statistics!D9*Statistics!D10 -> 3557250 | E7: =B7-C7 -> -178560 | F7: =IF(C7=0,0,B7/C7-1) -> -0.043243243 | G7: =IF(D7=0,0,B7/D7-1) -> 0.11058824
A8: Food and beverage | B8: 3500000 | C8: 3600000 | D8: 3250000 | E8: =B8-C8 -> -100000 | F8: =IF(C8=0,0,B8/C8-1) -> -0.027777778 | G8: =IF(D8=0,0,B8/D8-1) -> 0.076923077
A9: Spa and wellness | B9: 420000 | C9: 450000 | D9: 390000 | E9: =B9-C9 -> -30000 | F9: =IF(C9=0,0,B9/C9-1) -> -0.066666667 | G9: =IF(D9=0,0,B9/D9-1) -> 0.076923077
A10: Other operated and miscellaneous | B10: 129360 | C10: 120800 | D10: 112750 | E10: =B10-C10 -> 8560 | F10: =IF(C10=0,0,B10/C10-1) -> 0.070860927 | G10: =IF(D10=0,0,B10/D10-1) -> 0.14731707
A11: TOTAL REVENUE | B11: =SUM(B7:B10) -> 8000000 | C11: =SUM(C7:C10) -> 8300000 | D11: =SUM(D7:D10) -> 7310000 | E11: =B11-C11 -> -300000 | F11: =IF(C11=0,0,B11/C11-1) -> -0.036144578 | G11: =IF(D11=0,0,B11/D11-1) -> 0.094391245
A13: COST OF SALES
A14: Food and beverage cost of sales | B14: 1274000 | C14: 1044000 | D14: 991250 | E14: =B14-C14 -> 230000 | F14: =IF(C14=0,0,B14/C14-1) -> 0.22030651 | G14: =IF(D14=0,0,B14/D14-1) -> 0.2852459
A15: Spa cost of sales | B15: 63000 | C15: 67500 | D15: 58500 | E15: =B15-C15 -> -4500 | F15: =IF(C15=0,0,B15/C15-1) -> -0.066666667 | G15: =IF(D15=0,0,B15/D15-1) -> 0.076923077
A16: TOTAL COST OF SALES | B16: =B14+B15 -> 1337000 | C16: =C14+C15 -> 1111500 | D16: =D14+D15 -> 1049750 | E16: =B16-C16 -> 225500 | F16: =IF(C16=0,0,B16/C16-1) -> 0.20287899 | G16: =IF(D16=0,0,B16/D16-1) -> 0.27363658
A18: PAYROLL AND RELATED EXPENSES
A19: Rooms (front office, housekeeping) | B19: 639360 | C19: 576000 | D19: 566000 | E19: =B19-C19 -> 63360 | F19: =IF(C19=0,0,B19/C19-1) -> 0.11 | G19: =IF(D19=0,0,B19/D19-1) -> 0.12961131
A20: Food and beverage (service, kitchen, stewarding) | B20: 939060 | C20: 846000 | D20: 829000 | E20: =B20-C20 -> 93060 | F20: =IF(C20=0,0,B20/C20-1) -> 0.11 | G20: =IF(D20=0,0,B20/D20-1) -> 0.13276236
A21: Spa, fitness and kids' club | B21: 159840 | C21: 144000 | D21: 141000 | E21: =B21-C21 -> 15840 | F21: =IF(C21=0,0,B21/C21-1) -> 0.11 | G21: =IF(D21=0,0,B21/D21-1) -> 0.13361702
A22: Administrative and general (incl. executive office, finance, HR, IT, security) | B22: 579420 | C22: 522000 | D22: 511000 | E22: =B22-C22 -> 57420 | F22: =IF(C22=0,0,B22/C22-1) -> 0.11 | G22: =IF(D22=0,0,B22/D22-1) -> 0.13389432
A23: Sales and marketing | B23: 99900 | C23: 90000 | D23: 89000 | E23: =B23-C23 -> 9900 | F23: =IF(C23=0,0,B23/C23-1) -> 0.11 | G23: =IF(D23=0,0,B23/D23-1) -> 0.12247191
A24: Property operation and maintenance | B24: 313020 | C24: 282000 | D24: 276000 | E24: =B24-C24 -> 31020 | F24: =IF(C24=0,0,B24/C24-1) -> 0.11 | G24: =IF(D24=0,0,B24/D24-1) -> 0.13413043
A25: TOTAL PAYROLL AND RELATED | B25: =SUM(B19:B24) -> 2730600 | C25: =SUM(C19:C24) -> 2460000 | D25: =SUM(D19:D24) -> 2412000 | E25: =B25-C25 -> 270600 | F25: =IF(C25=0,0,B25/C25-1) -> 0.11 | G25: =IF(D25=0,0,B25/D25-1) -> 0.13208955
A27: OTHER OPERATING EXPENSES
A28: Rooms (commissions, guest supplies, laundry) | B28: 612000 | C28: 640000 | D28: 598000 | E28: =B28-C28 -> -28000 | F28: =IF(C28=0,0,B28/C28-1) -> -0.04375 | G28: =IF(D28=0,0,B28/D28-1) -> 0.023411371
A29: Food and beverage (operating supplies, laundry, entertainment) | B29: 238000 | C29: 245000 | D29: 231000 | E29: =B29-C29 -> -7000 | F29: =IF(C29=0,0,B29/C29-1) -> -0.028571429 | G29: =IF(D29=0,0,B29/D29-1) -> 0.03030303
A30: Spa and other operated | B30: 61000 | C30: 63000 | D30: 58000 | E30: =B30-C30 -> -2000 | F30: =IF(C30=0,0,B30/C30-1) -> -0.031746032 | G30: =IF(D30=0,0,B30/D30-1) -> 0.051724138
A31: Administrative and general | B31: 402000 | C31: 395000 | D31: 388000 | E31: =B31-C31 -> 7000 | F31: =IF(C31=0,0,B31/C31-1) -> 0.017721519 | G31: =IF(D31=0,0,B31/D31-1) -> 0.036082474
A32: Information and telecommunications (incl. transitional IT services) | B32: 241000 | C32: 230000 | D32: 176000 | E32: =B32-C32 -> 11000 | F32: =IF(C32=0,0,B32/C32-1) -> 0.047826087 | G32: =IF(D32=0,0,B32/D32-1) -> 0.36931818
A33: Sales and marketing | B33: 228000 | C33: 235000 | D33: 262000 | E33: =B33-C33 -> -7000 | F33: =IF(C33=0,0,B33/C33-1) -> -0.029787234 | G33: =IF(D33=0,0,B33/D33-1) -> -0.12977099
A34: Property operation and maintenance | B34: 214000 | C34: 205000 | D34: 219000 | E34: =B34-C34 -> 9000 | F34: =IF(C34=0,0,B34/C34-1) -> 0.043902439 | G34: =IF(D34=0,0,B34/D34-1) -> -0.02283105
A35: TOTAL OTHER OPERATING EXPENSES | B35: =SUM(B28:B34) -> 1996000 | C35: =SUM(C28:C34) -> 2013000 | D35: =SUM(D28:D34) -> 1932000 | E35: =B35-C35 -> -17000 | F35: =IF(C35=0,0,B35/C35-1) -> -0.0084451068 | G35: =IF(D35=0,0,B35/D35-1) -> 0.033126294
A37: UTILITIES
A38: Electricity (incl. chillers) | B38: 584400 | C38: 405000 | D38: 437000 | E38: =B38-C38 -> 179400 | F38: =IF(C38=0,0,B38/C38-1) -> 0.44296296 | G38: =IF(D38=0,0,B38/D38-1) -> 0.33729977
A39: Water | B39: 98400 | C39: 87000 | D39: 84000 | E39: =B39-C39 -> 11400 | F39: =IF(C39=0,0,B39/C39-1) -> 0.13103448 | G39: =IF(D39=0,0,B39/D39-1) -> 0.17142857
A40: Gas | B40: 34800 | C40: 28000 | D40: 27000 | E40: =B40-C40 -> 6800 | F40: =IF(C40=0,0,B40/C40-1) -> 0.24285714 | G40: =IF(D40=0,0,B40/D40-1) -> 0.28888889
A41: TOTAL UTILITIES | B41: =SUM(B38:B40) -> 717600 | C41: =SUM(C38:C40) -> 520000 | D41: =SUM(D38:D40) -> 548000 | E41: =B41-C41 -> 197600 | F41: =IF(C41=0,0,B41/C41-1) -> 0.38 | G41: =IF(D41=0,0,B41/D41-1) -> 0.30948905
A43: TOTAL OPERATING EXPENSES | B43: =B16+B25+B35+B41 -> 6781200 | C43: =C16+C25+C35+C41 -> 6104500 | D43: =D16+D25+D35+D41 -> 5941750 | E43: =B43-C43 -> 676700 | F43: =IF(C43=0,0,B43/C43-1) -> 0.11085265 | G43: =IF(D43=0,0,B43/D43-1) -> 0.14127993
A44: GROSS OPERATING PROFIT | B44: =B11-B43 -> 1218800 | C44: =C11-C43 -> 2195500 | D44: =D11-D43 -> 1368250 | E44: =B44-C44 -> -976700 | F44: =IF(C44=0,0,B44/C44-1) -> -0.4448645 | G44: =IF(D44=0,0,B44/D44-1) -> -0.10922711
A46: BELOW GOP
A47: Management fees (Roya HMA; LY: Halcyon base and incentive) | B47: 238000 | C47: 242000 | D47: 251000 | E47: =B47-C47 -> -4000 | F47: =IF(C47=0,0,B47/C47-1) -> -0.016528926 | G47: =IF(D47=0,0,B47/D47-1) -> -0.051792829
...

Sheet Statistics
A1: Qamar Bay: key statistics, October 2031
A2: Actual vs budget vs last year (Halcyon). 150 keys, 31 days.
A3: Synthetic: for training only. Deep Hospitality.
A5: Statistic | B5: Actual Oct 2031 | C5: Budget Oct 2031 | D5: Last year Oct 2030 | E5: Var vs budget | F5: Var vs last year
A6: Keys | B6: 150 | C6: 150 | D6: 150 | E6: =B6-C6 -> 0 | F6: =B6-D6 -> 0
A7: Days | B7: 31 | C7: 31 | D7: 31 | E7: =B7-C7 -> 0 | F7: =B7-D7 -> 0
A8: Rooms available | B8: =B6*B7 -> 4650 | C8: =C6*C7 -> 4650 | D8: =D6*D7 -> 4650 | E8: =B8-C8 -> 0 | F8: =B8-D8 -> 0
A9: Rooms sold | B9: 3348 | C9: 3441 | D9: 3162 | E9: =B9-C9 -> -93 | F9: =B9-D9 -> 186
A10: Average daily rate (AED) | B10: 1180 | C10: 1200 | D10: 1125 | E10: =B10-C10 -> -20 | F10: =B10-D10 -> 55
A11: Occupancy | B11: =B9/B8 -> 0.72 | C11: =C9/C8 -> 0.74 | D11: =D9/D8 -> 0.68 | E11: =B11-C11 -> -0.02 | F11: =B11-D11 -> 0.04
A12: RevPAR (AED) | B12: =B9*B10/B8 -> 849.6 | C12: =C9*C10/C8 -> 888 | D12: =D9*D10/D8 -> 765 | E12: =B12-C12 -> -38.4 | F12: =B12-D12 -> 84.6
A13: Total revenue (AED) | B13: ='Summary P&L'!B11 -> 8000000 | C13: ='Summary P&L'!C11 -> 8300000 | D13: ='Summary P&L'!D11 -> 7310000 | E13: =B13-C13 -> -300000 | F13: =B13-D13 -> 690000
A14: Gross operating profit (AED) | B14: ='Summary P&L'!B44 -> 1218800 | C14: ='Summary P&L'!C44 -> 2195500 | D14: ='Summary P&L'!D44 -> 1368250 | E14: =B14-C14 -> -976700 | F14: =B14-D14 -> -149450
A15: GOP margin | B15: ='Summary P&L'!B44/'Summary P&L'!B11 -> 0.15235 | C15: ='Summary P&L'!C44/'Summary P&L'!C11 -> 0.26451807 | D15: ='Summary P&L'!D44/'Summary P&L'!D11 -> 0.1871751 | E15: =B15-C15 -> -0.11216807 | F15: =B15-D15 -> -0.034825103
A16: F&B cost of sales % of F&B revenue | B16: ='Summary P&L'!B14/'Summary P&L'!B8 -> 0.364 | C16: ='Summary P&L'!C14/'Summary P&L'!C8 -> 0.29 | D16: ='Summary P&L'!D14/'Summary P&L'!D8 -> 0.305 | E16: =B16-C16 -> 0.074 | F16: =B16-D16 -> 0.059
A17: Payroll % of total revenue | B17: ='Summary P&L'!B25/'Summary P&L'!B11 -> 0.341325 | C17: ='Summary P&L'!C25/'Summary P&L'!C11 -> 0.29638554 | D17: ='Summary P&L'!D25/'Summary P&L'!D11 -> 0.32995896 | E17: =B17-C17 -> 0.044939458 | F17: =B17-D17 -> 0.01136604
A18: Utilities per occupied room (AED) | B18: ='Summary P&L'!B41/B9 -> 214.33692 | C18: ='Summary P&L'!C41/C9 -> 151.11886 | D18: ='Summary P&L'!D41/D9 -> 173.30803 | E18: =B18-C18 -> 63.218057 | F18: =B18-D18 -> 41.028885
A19: Payroll overtime hours (all departments) | B19: 9840 | C19: 2100 | D19: 2350 | E19: =B19-C19 -> 7740 | F19: =B19-D19 -> 7490

Sheet FF&E Reserve
A1: Qamar Bay: FF&E reserve statement, October 2031
A2: Reserve account in the name of Bayt Al Najm Holdings LLC. HMA clause 11.1: 4% of Total Revenue from Operating Year 3 (from 1 October 2031).
A3: Synthetic: for training only. Deep Hospitality.
A5: Line | B5: Actual Oct 2031 | C5: Budget Oct 2031 | D5: Notes
A6: Opening balance at 1 October 2031 (transferred from Halcyon) | B6: 940000 | C6: 940000 | D6: Per Halcyon closing reserve statement, 30 September 2031
A7: Contribution rate (HMA clause 11.1, Operating Year 3) | B7: 0.04 | C7: 0.04
A8: Contribution for October 2031 | B8: =B7*'Summary P&L'!B11 -> 320000 | C8: =C7*'Summary P&L'!C11 -> 332000 | D8: 4% of Total Revenue for the month
A9: Expenditure: family pool pump replacement (approved capex plan item 4) | B9: -96000 | C9: -100000 | D9: Within the approved FY 2031/32 capex plan
A10: Expenditure: kids' club soft play netting repair (approved capex plan item 7) | B10: -64000 | C10: -60000 | D10: Within the approved FY 2031/32 capex plan
A11: Closing balance at 31 October 2031 | B11: =B6+B8+B9+B10 -> 1100000 | C11: =C6+C8+C9+C10 -> 1112000
A13: Approved capital expenditure plan, FY 2031/32 (approved by the owner with the Annual Budget)
A14: Item | B14: Budget (AED) | C14: Funding | D14: Status
A15: 1. Guestroom television replacement, floors 1 and 2 | B15: 380000 | C15: FF&E reserve | D15: Scheduled Q2
A16: 2. Restaurant terrace furniture | B16: 210000 | C16: FF&E reserve | D16: Scheduled Q3
A17: 3. Fitness equipment renewal | B17: 160000 | C17: FF&E reserve | D17: Scheduled Q3
A18: 4. Family pool pump replacement | B18: 100000 | C18: FF&E reserve | D18: Completed October 2031
A19: 5. Back of house kitchen equipment | B19: 240000 | C19: FF&E reserve | D19: Scheduled Q2
A20: 6. Laundry trolleys and housekeeping carts | B20: 80000 | C20: FF&E reserve | D20: Scheduled Q4
A21: 7. Kids' club soft play repair | B21: 60000 | C21: FF&E reserve | D21: Completed October 2031
A22: Total approved FF&E plan | B22: =SUM(B15:B21) -> 1230000
A23: Soft goods (bed linen, towels, guestroom curtains) are not included in the approved FY 2031/32 capex plan. Chiller 2 replacement (building systems, owner-funded under clause 11.3) has not yet been submitted for approval.
